BEGIN:VCALENDAR
VERSION:2.0
PRODID:spatie/icalendar-generator
DESCRIPTION:Events from Barney Loves Books
X-WR-CALDESC:Events from Barney Loves Books
REFRESH-INTERVAL;VALUE=DURATION:PT1440M
X-PUBLISHED-TTL:PT1440M
BEGIN:VTIMEZONE
TZID:America/New_York
BEGIN:STANDARD
DTSTART:20221106T020000Z
TZOFFSETFROM:-0400
TZOFFSETTO:-0500
END:STANDARD
BEGIN:DAYLIGHT
DTSTART:20230312T020000Z
TZOFFSETFROM:-0500
TZOFFSETTO:-0400
END:DAYLIGHT
BEGIN:STANDARD
DTSTART:20231105T020000Z
TZOFFSETFROM:-0400
TZOFFSETTO:-0500
END:STANDARD
END:VTIMEZONE
BEGIN:VTIMEZONE
TZID:UTC
BEGIN:STANDARD
DTSTART:20250728T035756Z
TZOFFSETFROM:+0000
TZOFFSETTO:+0000
END:STANDARD
END:VTIMEZONE
BEGIN:VEVENT
UID:13-12
DTSTAMP:20260424T035756Z
SUMMARY:Mystery weekend
LOCATION:
ORGANIZER;CN=MUWS-JKC-admin:MAILTO:jimcombsmedia@gmail.com
DTSTART;TZID=America/New_York;VALUE=DATE:20230520
DTEND;TZID=America/New_York;VALUE=DATE:20230522
X-ALT-DESC;FMTTYPE=TEXT/HTML:May 20th. Mystery weekend. All mystery books o
 n sale and customers get a Barney Loves Books Minute Mystery to solve.
CATEGORIES:General
URL;VALUE=URI:https://barneylovesbooks.com/mc-events/mystery-weekend/?mc_id
 =13
END:VEVENT
END:VCALENDAR