BEGIN:VCALENDAR
VERSION:2.0
PRODID:spatie/icalendar-generator
DESCRIPTION:Events from Barney Loves Books
X-WR-CALDESC:Events from Barney Loves Books
REFRESH-INTERVAL;VALUE=DURATION:PT1440M
X-PUBLISHED-TTL:PT1440M
BEGIN:VTIMEZONE
TZID:America/New_York
BEGIN:STANDARD
DTSTART:20221106T020000Z
TZOFFSETFROM:-0400
TZOFFSETTO:-0500
END:STANDARD
BEGIN:DAYLIGHT
DTSTART:20230312T020000Z
TZOFFSETFROM:-0500
TZOFFSETTO:-0400
END:DAYLIGHT
BEGIN:STANDARD
DTSTART:20231105T020000Z
TZOFFSETFROM:-0400
TZOFFSETTO:-0500
END:STANDARD
END:VTIMEZONE
BEGIN:VTIMEZONE
TZID:UTC
BEGIN:STANDARD
DTSTART:20250728T023932Z
TZOFFSETFROM:+0000
TZOFFSETTO:+0000
END:STANDARD
END:VTIMEZONE
BEGIN:VEVENT
UID:14-13
DTSTAMP:20260424T023932Z
SUMMARY:Memorial Day.
LOCATION:Barney Loves Books 22 S Main Street  Woodstown NJ 08098
ORGANIZER;CN=MUWS-JKC-admin:MAILTO:jimcombsmedia@gmail.com
DTSTART;TZID=America/New_York;VALUE=DATE:20230527
DTEND;TZID=America/New_York;VALUE=DATE:20230528
X-ALT-DESC;FMTTYPE=TEXT/HTML:May 27 we celebrate Memorial Day.
CATEGORIES:General
URL;VALUE=URI:https://barneylovesbooks.com/mc-events/memorial-day/?mc_id=14
END:VEVENT
END:VCALENDAR