BEGIN:VCALENDAR
VERSION:2.0
PRODID:spatie/icalendar-generator
DESCRIPTION:Events from Barney Loves Books
X-WR-CALDESC:Events from Barney Loves Books
REFRESH-INTERVAL;VALUE=DURATION:PT1440M
X-PUBLISHED-TTL:PT1440M
BEGIN:VTIMEZONE
TZID:America/New_York
BEGIN:STANDARD
DTSTART:20221106T020000Z
TZOFFSETFROM:-0400
TZOFFSETTO:-0500
END:STANDARD
BEGIN:DAYLIGHT
DTSTART:20230312T020000Z
TZOFFSETFROM:-0500
TZOFFSETTO:-0400
END:DAYLIGHT
END:VTIMEZONE
BEGIN:VTIMEZONE
TZID:UTC
BEGIN:STANDARD
DTSTART:20250728T155217Z
TZOFFSETFROM:+0000
TZOFFSETTO:+0000
END:STANDARD
END:VTIMEZONE
BEGIN:VEVENT
UID:2-2
DTSTAMP:20260424T155217Z
SUMMARY:Dr. Seuss Day
LOCATION:
ORGANIZER;CN=pwsadmin:MAILTO:thomaselroytb@aol.com
DTSTART;TZID=America/New_York;VALUE=DATE:20230304
DTEND;TZID=America/New_York;VALUE=DATE:20230305
X-ALT-DESC;FMTTYPE=TEXT/HTML:We’ll have authors at the store who have wri
 tten children's books. The authors all from the area include Woodstown res
 ident Jeffrey Frisone with his monkey king series of books and mark and Su
 san Kibbe will be at the store to read from their two books\, the enchante
 d globe and the monster hotel. We’ll have free&amp;hellip\;
CATEGORIES:General
URL;VALUE=URI:https://barneylovesbooks.com/mc-events/dr-seuss-day/?mc_id=2
END:VEVENT
END:VCALENDAR