BEGIN:VCALENDAR
VERSION:2.0
PRODID:spatie/icalendar-generator
DESCRIPTION:Events from Barney Loves Books
X-WR-CALDESC:Events from Barney Loves Books
REFRESH-INTERVAL;VALUE=DURATION:PT1440M
X-PUBLISHED-TTL:PT1440M
BEGIN:VTIMEZONE
TZID:America/New_York
BEGIN:DAYLIGHT
DTSTART:20230312T020000Z
TZOFFSETFROM:-0500
TZOFFSETTO:-0400
END:DAYLIGHT
BEGIN:STANDARD
DTSTART:20231105T020000Z
TZOFFSETFROM:-0400
TZOFFSETTO:-0500
END:STANDARD
END:VTIMEZONE
BEGIN:VTIMEZONE
TZID:UTC
BEGIN:STANDARD
DTSTART:20250727T143612Z
TZOFFSETFROM:+0000
TZOFFSETTO:+0000
END:STANDARD
END:VTIMEZONE
BEGIN:VEVENT
UID:26-24
DTSTAMP:20260423T143612Z
SUMMARY:Labor Day sale
LOCATION:
ORGANIZER;CN=MUWS-JKC-admin:MAILTO:jimcombsmedia@gmail.com
DTSTART;TZID=America/New_York;VALUE=DATE:20230902
DTEND;TZID=America/New_York;VALUE=DATE:20230903
X-ALT-DESC;FMTTYPE=TEXT/HTML:Labor Day sale buy 2 books get one free. Any r
 oom in the store except the comic book room. Least expensive book is the f
 ree book.
CATEGORIES:General
URL;VALUE=URI:https://barneylovesbooks.com/mc-events/labor-day-sale/?mc_id=
 26
END:VEVENT
END:VCALENDAR