BEGIN:VCALENDAR
VERSION:2.0
PRODID:spatie/icalendar-generator
DESCRIPTION:Events from Barney Loves Books
X-WR-CALDESC:Events from Barney Loves Books
REFRESH-INTERVAL;VALUE=DURATION:PT1440M
X-PUBLISHED-TTL:PT1440M
BEGIN:VTIMEZONE
TZID:America/New_York
BEGIN:DAYLIGHT
DTSTART:20230312T020000Z
TZOFFSETFROM:-0500
TZOFFSETTO:-0400
END:DAYLIGHT
BEGIN:STANDARD
DTSTART:20231105T020000Z
TZOFFSETFROM:-0400
TZOFFSETTO:-0500
END:STANDARD
BEGIN:DAYLIGHT
DTSTART:20240310T020000Z
TZOFFSETFROM:-0500
TZOFFSETTO:-0400
END:DAYLIGHT
END:VTIMEZONE
BEGIN:VTIMEZONE
TZID:UTC
BEGIN:STANDARD
DTSTART:20250727T095746Z
TZOFFSETFROM:+0000
TZOFFSETTO:+0000
END:STANDARD
END:VTIMEZONE
BEGIN:VEVENT
UID:35-32
DTSTAMP:20260423T095746Z
SUMMARY:Halloween Costume Weekend.
LOCATION:
ORGANIZER;CN=MUWS-JKC-admin:MAILTO:jimcombsmedia@gmail.com
DTSTART;TZID=America/New_York:20231020T000000
DTEND;TZID=America/New_York:20231021T010000
X-ALT-DESC;FMTTYPE=TEXT/HTML:10/20-10/21. Halloween Costume Weekend. Come i
 n the store on Friday or Saturday and spin the prize wheel.
CATEGORIES:General
URL;VALUE=URI:https://barneylovesbooks.com/mc-events/halloween-costume-week
 end/?mc_id=35
END:VEVENT
END:VCALENDAR