BEGIN:VCALENDAR
VERSION:2.0
PRODID:spatie/icalendar-generator
DESCRIPTION:Events from Barney Loves Books
X-WR-CALDESC:Events from Barney Loves Books
REFRESH-INTERVAL;VALUE=DURATION:PT1440M
X-PUBLISHED-TTL:PT1440M
BEGIN:VTIMEZONE
TZID:America/New_York
BEGIN:DAYLIGHT
DTSTART:20230312T020000Z
TZOFFSETFROM:-0500
TZOFFSETTO:-0400
END:DAYLIGHT
BEGIN:STANDARD
DTSTART:20231105T020000Z
TZOFFSETFROM:-0400
TZOFFSETTO:-0500
END:STANDARD
BEGIN:DAYLIGHT
DTSTART:20240310T020000Z
TZOFFSETFROM:-0500
TZOFFSETTO:-0400
END:DAYLIGHT
END:VTIMEZONE
BEGIN:VTIMEZONE
TZID:UTC
BEGIN:STANDARD
DTSTART:20250725T094844Z
TZOFFSETFROM:+0000
TZOFFSETTO:+0000
END:STANDARD
END:VTIMEZONE
BEGIN:VEVENT
UID:39-35
DTSTAMP:20260421T094844Z
SUMMARY:Author Day
LOCATION:
ORGANIZER;CN=MUWS-JKC-admin:MAILTO:jimcombsmedia@gmail.com
DTSTART;TZID=America/New_York;VALUE=DATE:20231103
DTEND;TZID=America/New_York;VALUE=DATE:20231105
X-ALT-DESC;FMTTYPE=TEXT/HTML:November 3-4. Author Day. Buy a book(s) from o
 ur table of books buy local authors and you’ll get a Barney Loves Books 
 gift certificate equal to 25% of your purchase to use at a later time.
CATEGORIES:General
URL;VALUE=URI:https://barneylovesbooks.com/mc-events/author-day/?mc_id=39
END:VEVENT
END:VCALENDAR